BEGIN:VCALENDAR
PRODID:-//eluceo/ical//2.0/EN
VERSION:2.0
CALSCALE:GREGORIAN
BEGIN:VEVENT
UID:d8ddfff1ade7763446dc6d1532b0a249
DTSTAMP:20260426T010834Z
SUMMARY:JFB Program Knosh & Knowledge : Selected (Jewish) Shorts
DESCRIPTION:Jewish Federation of the Berkshires\nJewish Federation of the B
 erkshires\nhttps://jewishberkshires.org/jewish-federation-of-the-berkshire
 s/jfb-program-knosh-knowledge--selected-jewish-shorts-122578\n\n Selected 
 (Jewish) Shorts: readings of short plays and stories
DTSTART;TZID=America/New_York:20141205T104500
DTEND;TZID=America/New_York:20141205T130000
END:VEVENT
END:VCALENDAR
