BEGIN:VCALENDAR
PRODID:-//eluceo/ical//2.0/EN
VERSION:2.0
CALSCALE:GREGORIAN
BEGIN:VEVENT
UID:78e3d7b32aa56cf59c7ec07138567ba6
DTSTAMP:20260421T223821Z
SUMMARY:JFB Program "Berkshire Immigrant Center-Where It's Been\,Where It I
 s Today"
DESCRIPTION:Jewish Federation of the Berkshires\nJewish Federation of the B
 erkshires\nhttps://jewishberkshires.org/jewish-federation-of-the-berkshire
 s/jfb-program-berkshire-immigrant-center-where-its-beenwhere-it-is-today-1
 27226\n\nJewish Federation of the Berkshires will host Berkshire Immigrant
  Center Director\, Hilary Greene
DTSTART;TZID=America/New_York:20150115T130000
DTEND;TZID=America/New_York:20150115T143000
END:VEVENT
END:VCALENDAR
