BEGIN:VCALENDAR
PRODID:-//eluceo/ical//2.0/EN
VERSION:2.0
CALSCALE:GREGORIAN
BEGIN:VEVENT
UID:732146eef8a92b8551665976494a2f63
DTSTAMP:20260422T195851Z
SUMMARY:JFB presents "QiGong- Simple\, Natural Exercise to Enhance your Wel
 l-Being" 
DESCRIPTION:Jewish Federation of the Berkshires\nJewish Federation of the B
 erkshires\nhttps://jewishberkshires.org/jewish-federation-of-the-berkshire
 s/jfb-presents-qigong-simple-natural-exercise-to-enhance-your-well-being-1
 28545\n\nJewish Federation of the Berkshires presents  "QiGong - A Simple\
 , Natural Exercise to Enhance your Well-Being" 
DTSTART;TZID=America/New_York:20150209T130000
DTEND;TZID=America/New_York:20150209T143000
END:VEVENT
END:VCALENDAR
