BEGIN:VCALENDAR
PRODID:-//eluceo/ical//2.0/EN
VERSION:2.0
CALSCALE:GREGORIAN
BEGIN:VEVENT
UID:f52b47b4d5e2c61e3c40d1f8ade96f1b
DTSTAMP:20260420T062758Z
SUMMARY:Jews in Sports
DESCRIPTION:Jewish Federation of the Berkshires\nJewish Federation of the B
 erkshires\nhttps://jewishberkshires.org/jewish-federation-of-the-berkshire
 s/jews-in-sports-362250\n\nauthentic Jewish sports heroes
DTSTART;TZID=America/New_York:20201015T184500
DTEND;TZID=America/New_York:20201015T194500
END:VEVENT
END:VCALENDAR
