BEGIN:VCALENDAR
PRODID:-//eluceo/ical//2.0/EN
VERSION:2.0
CALSCALE:GREGORIAN
BEGIN:VEVENT
UID:e1eff1decda603391bd6488ea3484cb0
DTSTAMP:20260422T235549Z
SUMMARY:Jews Across the Americas:  A  New Sourcebook of Historical Diversit
 y
DESCRIPTION:Jewish Federation of the Berkshires\nJewish Federation of the B
 erkshires\nhttps://jewishberkshires.org/jewish-federation-of-the-berkshire
 s/jews-across-the-americas-a-sourcebook-442749\n\nVia Zoom.  Register HE
 RE.\n\nJewish Literary Voices: A Jewish Federation of the Berkshires Serie
 s in collaboration with Jewish Book Councill\n\nWhat is your understanding
  of the American Jewish experience?\n\nJews Across the Americas is a groun
 dbreaking sourcebook capturing the historical diversity and cultural bread
 th of American Jews across Latin America\, the Caribbean\, Canada\, and th
 e United States. Featuring primary documents as well as scholarly interpre
 tations\, Jews Across the America...
DTSTART;TZID=America/New_York:20231116T190000
DTEND;TZID=America/New_York:20231116T200000
END:VEVENT
END:VCALENDAR
