BEGIN:VCALENDAR
PRODID:-//eluceo/ical//2.0/EN
VERSION:2.0
CALSCALE:GREGORIAN
BEGIN:VEVENT
UID:91c77a6e4dab9481ce5ef521938b31f2
DTSTAMP:20260420T221223Z
SUMMARY:Jewish Women's Foundation General Membership Meeting
DESCRIPTION:Jewish Federation of the Berkshires\nJewish Federation of the B
 erkshires\nhttps://jewishberkshires.org/jewish-federation-of-the-berkshire
 s/jewish-womens-foundation-general-membership-meeting----268303\n\nGeneral
  Membership Meeting
DTSTART;TZID=America/New_York:20180827T093000
DTEND;TZID=America/New_York:20180827T123000
END:VEVENT
END:VCALENDAR
