BEGIN:VCALENDAR
PRODID:-//eluceo/ical//2.0/EN
VERSION:2.0
CALSCALE:GREGORIAN
BEGIN:VEVENT
UID:c057b815e14c205c1276d0742d02992a
DTSTAMP:20260422T115257Z
SUMMARY:Annual Jewish Women's Foundation General Membership Meeting & Lunch
 eon
DESCRIPTION:Jewish Federation of the Berkshires\nJewish Federation of the B
 erkshires\nhttps://jewishberkshires.org/jewish-federation-of-the-berkshire
 s/jewish-womens-foundation-general-membership-brunch-170669\n\nJewish Wome
 n's Foundation General Membership Brunch and Annual Meeting
DTSTART;TZID=America/New_York:20220624T110000
DTEND;TZID=America/New_York:20220624T130000
END:VEVENT
END:VCALENDAR
