BEGIN:VCALENDAR
PRODID:-//eluceo/ical//2.0/EN
VERSION:2.0
CALSCALE:GREGORIAN
BEGIN:VEVENT
UID:1bbd542be087d8bbafa6fe80093af556
DTSTAMP:20260422T205245Z
SUMMARY:Jewish Women's Foundation Executive Board Meeting
DESCRIPTION:Jewish Federation of the Berkshires\nJewish Federation of the B
 erkshires\nhttps://jewishberkshires.org/jewish-federation-of-the-berkshire
 s/jewish-womens-foundation-executive-meeting--43870\n\nJewish Women's Foun
 dation Executive Board Meeting
DTSTART;TZID=America/New_York:20170717T093000
DTEND;TZID=America/New_York:20170717T113000
END:VEVENT
END:VCALENDAR
