BEGIN:VCALENDAR
PRODID:-//eluceo/ical//2.0/EN
VERSION:2.0
CALSCALE:GREGORIAN
BEGIN:VEVENT
UID:3a0961c30d53b70719f4bf8fc6d950e0
DTSTAMP:20260421T052613Z
SUMMARY:Jewish Women's Foundation Cards & Mah Jong
DESCRIPTION:Jewish Federation of the Berkshires\nJewish Federation of the B
 erkshires\nhttps://jewishberkshires.org/jewish-federation-of-the-berkshire
 s/jewish-womens-foundation-cards-mah-jong-323342\n\nThe Jewish Women's Fou
 ndation of the Berkshires\n\nInvites You to a Fun Filled Day!\n\n \n\nCAR
 DS & MAHJONG \n\nWednesday\, September 4\n\n11:30 am - 4 pm\n\nBerkshire 
 South Regional Community Center \n\n15 Crissy Road\, Great Barrington\, M
 A \n\n \n\nBring your friends\, play your favorite games - bridge\, cana
 sta\, mahjong - and enjoy a box lunch deliciously prepared by the Barrin..
 .
DTSTART;TZID=America/New_York:20190904T113000
DTEND;TZID=America/New_York:20190904T160000
END:VEVENT
END:VCALENDAR
