BEGIN:VCALENDAR
PRODID:-//eluceo/ical//2.0/EN
VERSION:2.0
CALSCALE:GREGORIAN
BEGIN:VEVENT
UID:ab8ea51ccb0d537571056833d82a15eb
DTSTAMP:20260421T174453Z
SUMMARY:The ‘Jewish’ Musicals: Jewish Life on Broadway
DESCRIPTION:Jewish Federation of the Berkshires\nJewish Federation of the B
 erkshires\nhttps://jewishberkshires.org/jewish-federation-of-the-berkshire
 s/jewish-musicals-life-on-broadway-507278\n\nJoin Laura Wetzler\, singer\,
  songwriter\, guitarist\, recording artist and lecturer in a multimedia pr
 esentation that explores the appearance of Jewish stories\, characters\, a
 nd themes in the Broadway musical and what representation means for the Je
 wish community in American society.  Enjoy your favorites including Milk 
 and Honey\, Parade\, Harmony\, The Producers and many more…\n\nLaura has
  devoted years of study and performance to diverse\, multicultural World m
 usic\, as well as to the history of...
DTSTART;TZID=America/New_York:20260702T102500
DTEND;TZID=America/New_York:20260702T120000
END:VEVENT
END:VCALENDAR
