BEGIN:VCALENDAR
PRODID:-//eluceo/ical//2.0/EN
VERSION:2.0
CALSCALE:GREGORIAN
BEGIN:VEVENT
UID:3153bcc876ef904a0859cd85442a0133
DTSTAMP:20260420T094214Z
SUMMARY:Jewish Food Series:  Lunch with Author Tina Wasserman
DESCRIPTION:Jewish Federation of the Berkshires\nJewish Federation of the B
 erkshires\nhttps://jewishberkshires.org/jewish-federation-of-the-berkshire
 s/jewish-food-series-lunch-with-author-tina-wasserman-493895\n\nSpecial Je
 wish Food Series Lunch Program with Local Chefs\, Authors\, Food Writers\n
 \nIn preparation for the High Holy Days\, join Tina Wasserman\, Jewish cul
 inary historian and award-winning cooking instructor and the best-seeling 
 author of Entree to Judaism: A Culinary Exploration of the Jewish Diaspora
  and Entree to Judaism for Families: Cooking and Kitchen Conversations wit
 h Children\, for conversations over a home-cooked kosher lunch featuring t
 wo of her favorite recipes to Break-The-Fast on ...
DTSTART;TZID=America/New_York:20250904T120000
DTEND;TZID=America/New_York:20250904T130000
END:VEVENT
END:VCALENDAR
