BEGIN:VCALENDAR
PRODID:-//eluceo/ical//2.0/EN
VERSION:2.0
CALSCALE:GREGORIAN
BEGIN:VEVENT
UID:d3fd705866ecbeb0174619a94263c91c
DTSTAMP:20260425T144852Z
SUMMARY:Jewish Food Series: Lunch with Author Naomi Ross
DESCRIPTION:Jewish Federation of the Berkshires\nJewish Federation of the B
 erkshires\nhttps://jewishberkshires.org/jewish-federation-of-the-berkshire
 s/jewish-food-series-lunch-with-author-naomi-ross-493897\n\nSpecial Jewish
  Food Series Lunch Program with Local Chefs\, Authors\, Food Writers\n\nIn
  preparation for the High Holy Days\, join Naomi Ross\, kosher chef\, food
  writer and author of The Giving Table around our community table for conv
 ersation and a home-cooked kosher lunch featuring some of her favorite re
 cipes for the pre-fast meal before Yom Kippur or anytime (including Apric
 ot Citrus Chicken and Rum-Cherry-Apple Cake).\n\nEnjoy lunch and take home
  the recipes!  \n\nFull lunch menu: Aprico...
DTSTART;TZID=America/New_York:20250911T120000
DTEND;TZID=America/New_York:20250911T130000
END:VEVENT
END:VCALENDAR
