BEGIN:VCALENDAR
PRODID:-//eluceo/ical//2.0/EN
VERSION:2.0
CALSCALE:GREGORIAN
BEGIN:VEVENT
UID:46bd26ee684e20c002c72726afa42b9d
DTSTAMP:20260422T104931Z
SUMMARY:Jewish Food Series: Lunch with Author and Chef Elizabeth Baer
DESCRIPTION:Jewish Federation of the Berkshires\nJewish Federation of the B
 erkshires\nhttps://jewishberkshires.org/jewish-federation-of-the-berkshire
 s/jewish-food-series-lunch-with-author-and-chef-elizabeth-baer-465257\n\nS
 pecial Jewish Food Series Lunch Program with Local Chefs\, Authors\, Food 
 Writers\n\nIn preparation for the High Holy Days\, join Berkshire Eagle fo
 od writer and Chef Elizabeth Baer around our community table for conversat
 ion about how she joins together passions for cooking and writing (and her
  secret life as a recipe tester) and enjoy a home-cooked kosher lunch fea
 turing one of Liz's favorite recipes for the Pre-Fast Yom Kippur meal (Lem
 on Za’atar Chicken). Enjoy lunch and take home the re...
DTSTART;TZID=America/New_York:20240912T120000
DTEND;TZID=America/New_York:20240912T130000
END:VEVENT
END:VCALENDAR
