BEGIN:VCALENDAR
PRODID:-//eluceo/ical//2.0/EN
VERSION:2.0
CALSCALE:GREGORIAN
BEGIN:VEVENT
UID:53cd5f58cada477cfb1badcccc7364e3
DTSTAMP:20260420T163002Z
SUMMARY:Jewish Food Series: Lunch with Chefs Susan Levine and Natalia Monah
 an
DESCRIPTION:Jewish Federation of the Berkshires\nJewish Federation of the B
 erkshires\nhttps://jewishberkshires.org/jewish-federation-of-the-berkshire
 s/jewish-food-series-chefs-susan-levine-and-natalia-monahan-494530\n\nSpec
 ial Jewish Food Series Lunch Program with Local Chefs\, Authors\, Food Wri
 ters\n\nIn preparation for the High Holy Days\, join Chefs Susan Levine an
 d Natalia Monahan around our community table for conversation and a home-
 cooked kosher lunch featuring some of their favorite recipes for Rosh Has
 hanah or anytime (including Momala's Brisket\, Aunt Ethel's Tzimmes\, an
 d Honey-Apple Cake).\n\nEnjoy lunch and take home the recipes!  \n\nFull
  lunch menu: \n\nADVANCED RESERVATIONS REQUIRED BY 9...
DTSTART;TZID=America/New_York:20250918T120000
DTEND;TZID=America/New_York:20250918T130000
END:VEVENT
END:VCALENDAR
