BEGIN:VCALENDAR
PRODID:-//eluceo/ical//2.0/EN
VERSION:2.0
CALSCALE:GREGORIAN
BEGIN:VEVENT
UID:a62f83fe1cca21258c19ee3ccacd004d
DTSTAMP:20260422T081950Z
SUMMARY:Sukkot Fun on the Farm Festival
DESCRIPTION:Jewish Federation of the Berkshires\nJewish Federation of the B
 erkshires\nhttps://jewishberkshires.org/jewish-federation-of-the-berkshire
 s/jewish-federationpj-library-family-sukkot-funday-105897\n\nSukkot Fun on
  the Farm Festival at Whitney’s Farm\, 1775 South State Rd. (Route 8)\, 
 Cheshire\, MA.  
DTSTART;TZID=America/New_York:20150927T110000
DTEND;TZID=America/New_York:20150927T130000
END:VEVENT
END:VCALENDAR
