BEGIN:VCALENDAR
PRODID:-//eluceo/ical//2.0/EN
VERSION:2.0
CALSCALE:GREGORIAN
BEGIN:VEVENT
UID:4cecdd6e3d324377c9e78bec91407b01
DTSTAMP:20260420T072959Z
SUMMARY:Jewish Federation of the Berkshires' Executive Committee Meeting
DESCRIPTION:Jewish Federation of the Berkshires\nJewish Federation of the B
 erkshires\nhttps://jewishberkshires.org/jewish-federation-of-the-berkshire
 s/jewish-federation-of-the-berkshires-executive-committee-meetingred-20811
 7\n\nJewish Federation of the Berkshires' Executive Committee Meeting
DTSTART;TZID=America/New_York:20170606T120000
DTEND;TZID=America/New_York:20170606T140000
END:VEVENT
END:VCALENDAR
