BEGIN:VCALENDAR
PRODID:-//eluceo/ical//2.0/EN
VERSION:2.0
CALSCALE:GREGORIAN
BEGIN:VEVENT
UID:bcea5b52edfc518a9a1c3983d93488b2
DTSTAMP:20260423T144108Z
SUMMARY:Jewish Federation of the Berkshires' Executive Committee Meeting
DESCRIPTION:Jewish Federation of the Berkshires\nJewish Federation of the B
 erkshires\nhttps://jewishberkshires.org/jewish-federation-of-the-berkshire
 s/jewish-federation-of-the-berkshires-executive-committee-meeting3--363380
 \n\nJewish Federation of the Berkshires' Executive Committee Meeting
DTSTART;TZID=America/New_York:20210301T194500
DTEND;TZID=America/New_York:20210301T210000
END:VEVENT
END:VCALENDAR
