BEGIN:VCALENDAR
PRODID:-//eluceo/ical//2.0/EN
VERSION:2.0
CALSCALE:GREGORIAN
BEGIN:VEVENT
UID:3bec5d80d65a3418e494e7cf2570b2df
DTSTAMP:20260419T135517Z
SUMMARY:Jewish Federation of the Berkshires' Executive Committee Meeting
DESCRIPTION:Jewish Federation of the Berkshires\nJewish Federation of the B
 erkshires\nhttps://jewishberkshires.org/jewish-federation-of-the-berkshire
 s/jewish-federation-of-the-berkshires-executive-committee-meeting20227-396
 644\n\nJewish Federation of the Berkshires' Executive Committee Meeting
DTSTART;TZID=America/New_York:20220711T090000
DTEND;TZID=America/New_York:20220711T110000
END:VEVENT
END:VCALENDAR
