BEGIN:VCALENDAR
PRODID:-//eluceo/ical//2.0/EN
VERSION:2.0
CALSCALE:GREGORIAN
BEGIN:VEVENT
UID:ef5e4a202d95d08023e5992829e0e5b0
DTSTAMP:20260420T022332Z
SUMMARY:Jewish Federation of the Berkshires' Executive Committee Meeting
DESCRIPTION:Jewish Federation of the Berkshires\nJewish Federation of the B
 erkshires\nhttps://jewishberkshires.org/jewish-federation-of-the-berkshire
 s/jewish-federation-of-the-berkshires-executive-committee-meeting---------
 ------------------248744\n\nJewish Federation of the Berkshires' Executive
  Committee Meeting
DTSTART;TZID=America/New_York:20190507T120000
DTEND;TZID=America/New_York:20190507T140000
END:VEVENT
END:VCALENDAR
