BEGIN:VCALENDAR
PRODID:-//eluceo/ical//2.0/EN
VERSION:2.0
CALSCALE:GREGORIAN
BEGIN:VEVENT
UID:65fc1e7eff510a348a599f22907c458a
DTSTAMP:20260422T175425Z
SUMMARY:Jewish Federation of the Berkshires Exec Committee Meeting
DESCRIPTION:Jewish Federation of the Berkshires\nJewish Federation of the B
 erkshires\nhttps://jewishberkshires.org/jewish-federation-of-the-berkshire
 s/jewish-federation-of-the-berkshires-exec-committee-meeting-128438\n\nJew
 ish Federation Executive Committee Meeting
DTSTART;TZID=America/New_York:20150106T120000
DTEND;TZID=America/New_York:20150106T140000
END:VEVENT
END:VCALENDAR
