BEGIN:VCALENDAR
PRODID:-//eluceo/ical//2.0/EN
VERSION:2.0
CALSCALE:GREGORIAN
BEGIN:VEVENT
UID:787baf3190d3aa559a44a77632619e7b
DTSTAMP:20260422T030440Z
SUMMARY:Jewish Federation of the Berkshires' Board of Directors Meeting
DESCRIPTION:Jewish Federation of the Berkshires\nJewish Federation of the B
 erkshires\nhttps://jewishberkshires.org/jewish-federation-of-the-berkshire
 s/jewish-federation-o----f-the-berkshires-board-of-directors-meeting-32515
 6\n\nJewish Federation of the Berkshires' Board of Directors Meeting
DTSTART;TZID=America/New_York:20200721T193000
DTEND;TZID=America/New_York:20200721T213000
END:VEVENT
END:VCALENDAR
