BEGIN:VCALENDAR
PRODID:-//eluceo/ical//2.0/EN
VERSION:2.0
CALSCALE:GREGORIAN
BEGIN:VEVENT
UID:742f7fcec28e0c9217865e2fc88c9304
DTSTAMP:20260422T025839Z
SUMMARY:Jewish Federation Knosh & Knowledge with Susan Dworkin
DESCRIPTION:Jewish Federation of the Berkshires\nJewish Federation of the B
 erkshires\nhttps://jewishberkshires.org/jewish-federation-of-the-berkshire
 s/jewish-federation-knosh-knowledge-with-susan-dworkin-167904\n\nThe Jewis
 h Federation of the Berkshires will present Knosh & Knowledge with author 
 Susan Dworkin\, who will deliver a talk on the collaborative process of te
 lling someone else’s story titled “Becoming Your Subject: The Magical 
 Journey of a Collaborating Writer.”
DTSTART;TZID=America/New_York:20151120T104500
DTEND;TZID=America/New_York:20151120T120000
END:VEVENT
END:VCALENDAR
