BEGIN:VCALENDAR
PRODID:-//eluceo/ical//2.0/EN
VERSION:2.0
CALSCALE:GREGORIAN
BEGIN:VEVENT
UID:5f3d66721dfa2287becd9bcd4ec23d3c
DTSTAMP:20260421T193344Z
SUMMARY:Jewish Federation Knosh & Knowledge with Letty Cottin Pogrebin
DESCRIPTION:Jewish Federation of the Berkshires\nJewish Federation of the B
 erkshires\nhttps://jewishberkshires.org/jewish-federation-of-the-berkshire
 s/jewish-federation-knosh-knowledge-with-letty-cottin-pogrebin-163210\n\nh
 e Jewish Federation of the Berkshires will present Knosh & Knowledge with 
 author Letty Cottin Pogrebin
DTSTART;TZID=America/New_York:20151009T104500
DTEND;TZID=America/New_York:20151009T130000
END:VEVENT
END:VCALENDAR
