BEGIN:VCALENDAR
PRODID:-//eluceo/ical//2.0/EN
VERSION:2.0
CALSCALE:GREGORIAN
BEGIN:VEVENT
UID:808270980094c68442fa4c2ad3d60141
DTSTAMP:20260419T214022Z
SUMMARY:Jewish Federation-Executive Committee Meeting
DESCRIPTION:Jewish Federation of the Berkshires\nJewish Federation of the B
 erkshires\nhttps://jewishberkshires.org/jewish-federation-of-the-berkshire
 s/jewish-federation-executive-committee-meeting-128452\n\nJewish Federatio
 n-Executive Committee Meeting
DTSTART;TZID=America/New_York:20150303T120000
DTEND;TZID=America/New_York:20150303T140000
END:VEVENT
END:VCALENDAR
