BEGIN:VCALENDAR
PRODID:-//eluceo/ical//2.0/EN
VERSION:2.0
CALSCALE:GREGORIAN
BEGIN:VEVENT
UID:e58ea99c1e6cecb4c6764dd461983793
DTSTAMP:20260420T030951Z
SUMMARY:Jewish Federation Connecting with Community with Storyteller David 
 Arfa
DESCRIPTION:Jewish Federation of the Berkshires\nJewish Federation of the B
 erkshires\nhttps://jewishberkshires.org/jewish-federation-of-the-berkshire
 s/jewish-federation-connecting-with-community-with-storyteller-david-arfa-
 151138\n\nThe Jewish Federation of the Berkshires' Connecting with Communi
 ty series will be joined by maggid (storyteller) David Arfa for "A Sense o
 f Wonder: Journeying with Rabbi Heschel and Rachel Carson."
DTSTART;TZID=America/New_York:20150803T104500
DTEND;TZID=America/New_York:20150803T120000
END:VEVENT
END:VCALENDAR
