BEGIN:VCALENDAR
PRODID:-//eluceo/ical//2.0/EN
VERSION:2.0
CALSCALE:GREGORIAN
BEGIN:VEVENT
UID:0d892efddbab79f42fec727e0d723bac
DTSTAMP:20260420T083814Z
SUMMARY:Jewish Federation Connecting with Community "Finding Your Ancestors
 "
DESCRIPTION:Jewish Federation of the Berkshires\nJewish Federation of the B
 erkshires\nhttps://jewishberkshires.org/jewish-federation-of-the-berkshire
 s/jewish-federation-connecting-with-community-finding-your-ancestors-16516
 8\n\nThe Jewish Federation of the Berkshires' Connecting with Community se
 ries will be joined by genealogist\, Keren Weiner with "Finding Your Ances
 tors in Immigration & Naturalization Documents.  
DTSTART;TZID=America/New_York:20151026T104500
DTEND;TZID=America/New_York:20151026T120000
END:VEVENT
END:VCALENDAR
