BEGIN:VCALENDAR
PRODID:-//eluceo/ical//2.0/EN
VERSION:2.0
CALSCALE:GREGORIAN
BEGIN:VEVENT
UID:24c51e5ee146610f547fdd2b2388767e
DTSTAMP:20260420T005146Z
SUMMARY:Jewish Federation Connecting with Community film - Israel: The Roya
 l Tour
DESCRIPTION:Jewish Federation of the Berkshires\nJewish Federation of the B
 erkshires\nhttps://jewishberkshires.org/jewish-federation-of-the-berkshire
 s/jewish-federation-connecting-with-community-film-israel-the-royal-tour-1
 67876\n\nThe Jewish Federation of the Berkshires' Connecting with Communit
 y series presents a film "Israel: The Royal Tour" with Prime Minister Benj
 amin Netanyahu and Peter Greenberg.  
DTSTART;TZID=America/New_York:20151116T104500
DTEND;TZID=America/New_York:20151116T120000
END:VEVENT
END:VCALENDAR
