BEGIN:VCALENDAR
PRODID:-//eluceo/ical//2.0/EN
VERSION:2.0
CALSCALE:GREGORIAN
BEGIN:VEVENT
UID:11eebacb82fa36789363fd132fead623
DTSTAMP:20260425T130656Z
SUMMARY:Jewish Federation Connecting with Community "Exhibition-Berkshire M
 useum"
DESCRIPTION:Jewish Federation of the Berkshires\nJewish Federation of the B
 erkshires\nhttps://jewishberkshires.org/jewish-federation-of-the-berkshire
 s/jewish-federation-connecting-with-community-exhibition-berkshire-museum-
 152763\n\nThe Jewish Federation of the Berkshires' Connecting with Communi
 ty series will be joined by Maria Mingalone\, Director of Interpretation a
 t The Berkshire Museum.
DTSTART;TZID=America/New_York:20150820T104500
DTEND;TZID=America/New_York:20150820T120000
END:VEVENT
END:VCALENDAR
