BEGIN:VCALENDAR
PRODID:-//eluceo/ical//2.0/EN
VERSION:2.0
CALSCALE:GREGORIAN
BEGIN:VEVENT
UID:30e78ad7137c1fe955557fbb1f7cef5d
DTSTAMP:20260420T162649Z
SUMMARY:Jewish Federation Connecting with Community "Conspiracies\, Rumors 
 & Loves"
DESCRIPTION:Jewish Federation of the Berkshires\nJewish Federation of the B
 erkshires\nhttps://jewishberkshires.org/jewish-federation-of-the-berkshire
 s/jewish-federation-connecting-with-community-conspiracies-rumors-loves-16
 5677\n\nThe Jewish Federation of the Berkshires' Connecting with Community
  series will be joined by radio travel talk show host\, Stephanie Abrams\,
  for "Conspiracies\, Rumors and Loves in a Jewish Community."  Abrams is r
 ecognized as an expert in the travel industry and has been named to "Trave
 l Agent Magazine's list of the "100 Most Powerful Women in Travel."
DTSTART;TZID=America/New_York:20151105T104500
DTEND;TZID=America/New_York:20151105T120000
END:VEVENT
END:VCALENDAR
