BEGIN:VCALENDAR
PRODID:-//eluceo/ical//2.0/EN
VERSION:2.0
CALSCALE:GREGORIAN
BEGIN:VEVENT
UID:1dfefd169dbd142ec661dfa165ba4bc5
DTSTAMP:20260419T175333Z
SUMMARY:Canceled - Jewish Cookbook Club
DESCRIPTION:Jewish Federation of the Berkshires\nJewish Federation of the B
 erkshires\nhttps://jewishberkshires.org/jewish-federation-of-the-berkshire
 s/jewish-cookbook-club---------337194\n\nFederation and Guido’s Team Up 
 for Our New Jewish Cookbook Club\n\nCalling all cooks! The Jewish Federati
 on of the Berkshires has teamed up with Guido’s Fresh Marketplace to hos
 t a new Jewish Cookbook Club. Participants will prepare a recipe from a fe
 atured Jewish cookbook\, which will be shared together at a festive potluc
 k-style dinner afterhours at Guido’s Fresh Marketplace. Cookbooks will b
 e on view in advance at the Federation’s office or for viewing and purc
 hase at Guido’s. ...
DTSTART;TZID=America/New_York:20200910T190000
DTEND;TZID=America/New_York:20200910T210000
END:VEVENT
END:VCALENDAR
