BEGIN:VCALENDAR
PRODID:-//eluceo/ical//2.0/EN
VERSION:2.0
CALSCALE:GREGORIAN
BEGIN:VEVENT
UID:e785379cafd4a15288c4870f0e3ad0ee
DTSTAMP:20260421T141622Z
SUMMARY:Cancelled: Jewish Cookbook Club
DESCRIPTION:Jewish Federation of the Berkshires\nJewish Federation of the B
 erkshires\nhttps://jewishberkshires.org/jewish-federation-of-the-berkshire
 s/jewish-cookbook---club-343807\n\nNew Jewish Cookbook Club
DTSTART;TZID=America/New_York:20200507T190000
DTEND;TZID=America/New_York:20200507T210000
END:VEVENT
END:VCALENDAR
