BEGIN:VCALENDAR
PRODID:-//eluceo/ical//2.0/EN
VERSION:2.0
CALSCALE:GREGORIAN
BEGIN:VEVENT
UID:649d3b134357d434306fe658e5369f2c
DTSTAMP:20260423T212915Z
SUMMARY:POSTPONED: TO JUNE 12:  Get the Scoop...Jewish Community Day
DESCRIPTION:Jewish Federation of the Berkshires\nJewish Federation of the B
 erkshires\nhttps://jewishberkshires.org/jewish-federation-of-the-berkshire
 s/jewish-community-day-at-high-lawn-farm-401159\n\nPOSTPONED UNITL JUNE 12
  DUE TO EXPECTED RAIN\n\nThe Jewish Federation is kicking off our 2022 Com
 munity Campaign at High Lawn Farm with fun for everyone! Meet old frien
 ds\, make new friends\, learn more about our Berkshire Jewish Community an
 d enjoy free homemade ice cream while supplies last. \n\nYou can also tak
 e a behind-the-scenes tour of the baby calves and on-demand robotic milkin
 g room\, visit the historic museum\, pet the cows and check out their wate
 rbeds\, enjoy the baby animal petti...
DTSTART;TZID=America/New_York:20220515T140000
DTEND;TZID=America/New_York:20220515T160000
END:VEVENT
END:VCALENDAR
