BEGIN:VCALENDAR
PRODID:-//eluceo/ical//2.0/EN
VERSION:2.0
CALSCALE:GREGORIAN
BEGIN:VEVENT
UID:e3cb97028301be98efa68518b1cee2c6
DTSTAMP:20260419T203948Z
SUMMARY:Jewish Community Day...Plant the Seeds
DESCRIPTION:Jewish Federation of the Berkshires\nJewish Federation of the B
 erkshires\nhttps://jewishberkshires.org/jewish-federation-of-the-berkshire
 s/jewish-community-day-at-high-lawn-farm-2023-431987\n\nJewish Community D
 ay...Plant the Seeds that Help Our Community Bloom!  Join us at High Law
 n Farm as we come together to kick off our community campaign and help Su
 stain our Community and Our Planet. \n\nFun for ages 0-99!  Join us for 
 a fun filled day of free ice cream (while supplies last)\, cows\, baby ani
 mals\, eco-crafts\, mitzvah activities\, community tables\, raffles\, and 
 so much more! Visit High Lawn Farm's historic museum and artisanal cheese 
 shop. Learn more about your Jewish Berkshi...
DTSTART;TZID=America/New_York:20230521T140000
DTEND;TZID=America/New_York:20230521T160000
END:VEVENT
END:VCALENDAR
