BEGIN:VCALENDAR
PRODID:-//eluceo/ical//2.0/EN
VERSION:2.0
CALSCALE:GREGORIAN
BEGIN:VEVENT
UID:c373d94b7c11c236ebd6f8afd1509839
DTSTAMP:20260422T150736Z
SUMMARY:Jewish Ancestries in the Borderlands
DESCRIPTION:Jewish Federation of the Berkshires\nJewish Federation of the B
 erkshires\nhttps://jewishberkshires.org/jewish-federation-of-the-berkshire
 s/jewish-ancestries-in-the-borderlands-371726\n\nthe current crisis at the
  southern border of the United States through the lens of “Jewish Ancest
 ries in the Borderlands."
DTSTART;TZID=America/New_York:20210304T184500
DTEND;TZID=America/New_York:20210304T194500
END:VEVENT
END:VCALENDAR
