BEGIN:VCALENDAR
PRODID:-//eluceo/ical//2.0/EN
VERSION:2.0
CALSCALE:GREGORIAN
BEGIN:VEVENT
UID:053ad080c534bb6ef14c331705fcdd60
DTSTAMP:20260421T141016Z
SUMMARY:Israeli Resilience During Dark Days
DESCRIPTION:Jewish Federation of the Berkshires\nJewish Federation of the B
 erkshires\nhttps://jewishberkshires.org/jewish-federation-of-the-berkshire
 s/israeli-resilience-during-dark-days-464469\n\nHonoring Yom HaZikaron and
  Yom Ha’atzmaut\n\nPlease register HERE.\n\nWhat is it like reporting on
  war in your own country?  Join Times of Israel journalist Jessica Stein
 berg as she delves into how Israelis are finding a sense of normalcy amid
 st recent challenges\, including the aftermath of the October 7 and the Ir
 anian attack. Steinberg sheds light on the current landscape in Israel\, w
 here families navigate grief and stress stemming from the frontline sacrif
 ices and losses endured durin...
DTSTART;TZID=America/New_York:20240523T193000
DTEND;TZID=America/New_York:20240523T210000
END:VEVENT
END:VCALENDAR
