BEGIN:VCALENDAR
PRODID:-//eluceo/ical//2.0/EN
VERSION:2.0
CALSCALE:GREGORIAN
BEGIN:VEVENT
UID:74f9cf5660999e1ef67e27e01fa6b315
DTSTAMP:20260419T181322Z
SUMMARY:In the Midst of Civilized Europe: Jews and Ukraine in Times of War
DESCRIPTION:Jewish Federation of the Berkshires\nJewish Federation of the B
 erkshires\nhttps://jewishberkshires.org/jewish-federation-of-the-berkshire
 s/in-the-midst-of-civilized-europe-jews-and-ukraine-in-times-of-war-421784
 \n\nVirtual program.  Please register HERE.\n\nBetween 1918 and 1921\, ov
 er a hundred thousand Jews were murdered in Ukraine by peasants\, townsmen
 \, and soldiers who blamed the Jews for the turmoil of the Russian Revolut
 ion. In hundreds of separate incidents\, ordinary people robbed their Jewi
 sh neighbors with impunity\, burned down their houses\, ripped apart their
  Torah scrolls\, sexually assaulted them\, and killed them. Largely forgot
 ten today\, these pogroms―ethnic riots―dominated headlines and...
DTSTART;TZID=America/New_York:20230223T184500
DTEND;TZID=America/New_York:20230223T204500
END:VEVENT
END:VCALENDAR
