BEGIN:VCALENDAR
PRODID:-//eluceo/ical//2.0/EN
VERSION:2.0
CALSCALE:GREGORIAN
BEGIN:VEVENT
UID:6481a6f968dee6adbf770fdd04e7cd5a
DTSTAMP:20260419T132039Z
SUMMARY:Immigrants in the Berkshires\, Then and Now
DESCRIPTION:Jewish Federation of the Berkshires\nJewish Federation of the B
 erkshires\nhttps://jewishberkshires.org/jewish-federation-of-the-berkshire
 s/immigrants-in-the-berkshires-then-and-now-325081\n\n Michelle Lopez\, ex
 ecutive director of the Berkshire Immigrant Center for "Educating the Comm
 unity about Immigrants in the Berkshires\, Then and Now".
DTSTART;TZID=America/New_York:20191114T104500
DTEND;TZID=America/New_York:20191114T120000
END:VEVENT
END:VCALENDAR
