BEGIN:VCALENDAR
PRODID:-//eluceo/ical//2.0/EN
VERSION:2.0
CALSCALE:GREGORIAN
BEGIN:VEVENT
UID:e2cfe591f060643a6500cbf370edeff4
DTSTAMP:20260422T011425Z
SUMMARY:Images of Contemporary Holocaust Representation
DESCRIPTION:Jewish Federation of the Berkshires\nJewish Federation of the B
 erkshires\nhttps://jewishberkshires.org/jewish-federation-of-the-berkshire
 s/images-of-contemporary-holocaust-representation-448452\n\nVia Zoom.  Pl
 ease click HERE to register.\n\nIn conversation with Dr. Carol Salus\, art
  historian\, we will mark Yom HaShoah through different visual responses f
 rom a variety of artists such as Chagall\, the photographer Shimon Attie a
 nd his images of residents of a religious neighborhood in Berlin on the cu
 sp of the Holocaust superimposed over modern images of the same sites toda
 y.  Other tributes to the atrocities are wall-size sculptures by Louise N
 evelson\, architectural sculptures by Frank...
DTSTART;TZID=America/New_York:20240502T190000
DTEND;TZID=America/New_York:20240502T210000
END:VEVENT
END:VCALENDAR
