BEGIN:VCALENDAR
PRODID:-//eluceo/ical//2.0/EN
VERSION:2.0
CALSCALE:GREGORIAN
BEGIN:VEVENT
UID:028546dd54cfe3e178fc57131f43fcd8
DTSTAMP:20260425T130431Z
SUMMARY:iEngage - The Tribes of Israel: A Shared Homeland for a Divided Peo
 ple
DESCRIPTION:Jewish Federation of the Berkshires\nJewish Federation of the B
 erkshires\nhttps://jewishberkshires.org/jewish-federation-of-the-berkshire
 s/iengage-the-tribes-of-israel-a-shared-homeland-for-a-divided-people-2222
 30\n\nJoin Rabbi Neil Hirsch of Hevreh of Southern Berkshire and Rabbi Dav
 id Weiner of Knesset Israel for a series of in-depth conversations in this
  second iEngage Video Lecture Series.
DTSTART;TZID=America/New_York:20170718T190000
DTEND;TZID=America/New_York:20170718T210000
END:VEVENT
END:VCALENDAR
