BEGIN:VCALENDAR
PRODID:-//eluceo/ical//2.0/EN
VERSION:2.0
CALSCALE:GREGORIAN
BEGIN:VEVENT
UID:537ed85ebf0bb97550da159ab2c93a2e
DTSTAMP:20260424T122602Z
SUMMARY:How to Stay Young: The First 100 Years
DESCRIPTION:Jewish Federation of the Berkshires\nJewish Federation of the B
 erkshires\nhttps://jewishberkshires.org/jewish-federation-of-the-berkshire
 s/how-to-stay-young-the-first-100-years-173251\n\nThe Jewish Federation of
  the Berkshires' Connecting with Community presents "How to Stay Young: Th
 e First 100 Years" with Britney Danials\, a board certified chiropractic a
 ssistant.
DTSTART;TZID=America/New_York:20160128T104500
DTEND;TZID=America/New_York:20160128T120000
END:VEVENT
END:VCALENDAR
