BEGIN:VCALENDAR
PRODID:-//eluceo/ical//2.0/EN
VERSION:2.0
CALSCALE:GREGORIAN
BEGIN:VEVENT
UID:2eb441645770870aa74c110744628944
DTSTAMP:20260420T161114Z
SUMMARY:How to Build a Just\, Thriving and Safe Community
DESCRIPTION:Jewish Federation of the Berkshires\nJewish Federation of the B
 erkshires\nhttps://jewishberkshires.org/jewish-federation-of-the-berkshire
 s/how-to-build-a-just-thriving-and-safe-community-295131\n\nAlisa Costa\, 
 Initiative Director for Working Cities in Pittsfield
DTSTART;TZID=America/New_York:20190214T104500
DTEND;TZID=America/New_York:20190214T120000
END:VEVENT
END:VCALENDAR
