BEGIN:VCALENDAR
PRODID:-//eluceo/ical//2.0/EN
VERSION:2.0
CALSCALE:GREGORIAN
BEGIN:VEVENT
UID:b95561b6524db7947ed94eda58b077d5
DTSTAMP:20260423T003314Z
SUMMARY:Hospice You Can Trust\, Care You Deserve
DESCRIPTION:Jewish Federation of the Berkshires\nJewish Federation of the B
 erkshires\nhttps://jewishberkshires.org/jewish-federation-of-the-berkshire
 s/hospice-you-can-trust-care-you-deserve-217043\n\nThe Jewish Federation C
 onnecting with Community series presents "Hospice You Can Trust\, Care You
  Deserve." What makes Hospice of Western and Central MA different?
DTSTART;TZID=America/New_York:20170522T104500
DTEND;TZID=America/New_York:20170522T120000
END:VEVENT
END:VCALENDAR
