BEGIN:VCALENDAR
PRODID:-//eluceo/ical//2.0/EN
VERSION:2.0
CALSCALE:GREGORIAN
BEGIN:VEVENT
UID:425a1f0c52d134b47ad1fa6064ca185f
DTSTAMP:20260424T052110Z
SUMMARY:H.G. Adler: A Life in Many Worlds
DESCRIPTION:Jewish Federation of the Berkshires\nJewish Federation of the B
 erkshires\nhttps://jewishberkshires.org/jewish-federation-of-the-berkshire
 s/hg-adler-a-life-in-many-worlds-298106\n\nKnosh & Knowledge H.G. Adler: A
  Life in Many Worlds
DTSTART;TZID=America/New_York:20190329T104500
DTEND;TZID=America/New_York:20190329T130000
END:VEVENT
END:VCALENDAR
