BEGIN:VCALENDAR
PRODID:-//eluceo/ical//2.0/EN
VERSION:2.0
CALSCALE:GREGORIAN
BEGIN:VEVENT
UID:2d9b8520ba3ed0c94d639f6af0d38579
DTSTAMP:20260421T154133Z
SUMMARY:H.G. Adler: A Life in Many Worlds
DESCRIPTION:Jewish Federation of the Berkshires\nJewish Federation of the B
 erkshires\nhttps://jewishberkshires.org/jewish-federation-of-the-berkshire
 s/hg-adler-a-life-in-many-worlds---313760\n\n Jewish Federation Connecting
  with Community program welcomes presenter Peter Filkins\, an award winnin
 g poet and translator of three novels by H.G. Adler.
DTSTART;TZID=America/New_York:20190812T104500
DTEND;TZID=America/New_York:20190812T120000
END:VEVENT
END:VCALENDAR
