BEGIN:VCALENDAR
PRODID:-//eluceo/ical//2.0/EN
VERSION:2.0
CALSCALE:GREGORIAN
BEGIN:VEVENT
UID:29f5ed725788733b0412cf5e00a9daf8
DTSTAMP:20260423T125018Z
SUMMARY:Help! I Got My DNA Results and I'm Confused!
DESCRIPTION:Jewish Federation of the Berkshires\nJewish Federation of the B
 erkshires\nhttps://jewishberkshires.org/jewish-federation-of-the-berkshire
 s/help-i-got-my-dna-results-and-im-confused-447077\n\nVia Zoom. Please reg
 ister HERE.\n\nDid you get your autosomal DNA results from any or all of t
 he 4 testing companies? Do you have tens of thousands of matches that they
  tell you are close relatives\, only to find that they don’t share a sur
 name or town in common? Confused? Frustrated? You are not alone.\n\nSo\, t
 ake a deep breath and join us in understanding your results of ethnicity a
 nd matches\; how to prioritize them\, and reduce the thousands of matches 
 to numbers you can research and maybe...
DTSTART;TZID=America/New_York:20231211T190000
DTEND;TZID=America/New_York:20231211T201500
END:VEVENT
END:VCALENDAR
