BEGIN:VCALENDAR
PRODID:-//eluceo/ical//2.0/EN
VERSION:2.0
CALSCALE:GREGORIAN
BEGIN:VEVENT
UID:8f76b76f10440fd6e2681697619fe336
DTSTAMP:20260423T030846Z
SUMMARY:Hebrew Calligraphy and Letter Arts Today: Tattoos\, Type\, and Graf
 fiti
DESCRIPTION:Jewish Federation of the Berkshires\nJewish Federation of the B
 erkshires\nhttps://jewishberkshires.org/jewish-federation-of-the-berkshire
 s/hebrew-calligraphy-and-letter-arts-today-tattoos-type-and-graffiti-50031
 3\n\nPlease register HERE.\n\nJoin us for the last of our series of three 
 standalone talks on the calligraphy and mysticism of the Hebrew alphabet. 
 No knowledge of Hebrew language required.\n\nThis Jewish Art Education pro
 gram led by Prof. Joanna Homrighausen looks at some of the new technologie
 s in and controversial surfaces on which artists do calligraphy in the 21s
 t century. These letters suggest a variety of ways of doing tradition Jewi
 shly.\n\nJoanna Homrighausen writes and teaches at the int...
DTSTART;TZID=America/New_York:20260226T190000
DTEND;TZID=America/New_York:20260226T200000
END:VEVENT
END:VCALENDAR
