BEGIN:VCALENDAR
PRODID:-//eluceo/ical//2.0/EN
VERSION:2.0
CALSCALE:GREGORIAN
BEGIN:VEVENT
UID:88bcb7c307bfd43aa7b8d40553e48efd
DTSTAMP:20260421T175916Z
SUMMARY:Healing the Spirit as Well as the Body in a Health Care Setting
DESCRIPTION:Jewish Federation of the Berkshires\nJewish Federation of the B
 erkshires\nhttps://jewishberkshires.org/jewish-federation-of-the-berkshire
 s/healing-the-spirit-as-well-as-the-body-in-a-health-care-setting-217899\n
 \nThe Jewish Federation Connecting with Community series hosts Marcie Gree
 nfield Simons\, interfaith chaplain at Berkshire Medical Center
DTSTART;TZID=America/New_York:20170216T104500
DTEND;TZID=America/New_York:20170216T120000
END:VEVENT
END:VCALENDAR
