BEGIN:VCALENDAR
PRODID:-//eluceo/ical//2.0/EN
VERSION:2.0
CALSCALE:GREGORIAN
BEGIN:VEVENT
UID:a6c2e5044005f5ab16d7caa0d1148b22
DTSTAMP:20260422T063233Z
SUMMARY:Tasting Teas in Real Time with Master Tea Blender Michael Harney
DESCRIPTION:Jewish Federation of the Berkshires\nJewish Federation of the B
 erkshires\nhttps://jewishberkshires.org/jewish-federation-of-the-berkshire
 s/harneyteas-366117\n\nTea Sampling with Harney and Sons
DTSTART;TZID=America/New_York:20201207T184500
DTEND;TZID=America/New_York:20201207T194500
END:VEVENT
END:VCALENDAR
