BEGIN:VCALENDAR
PRODID:-//eluceo/ical//2.0/EN
VERSION:2.0
CALSCALE:GREGORIAN
BEGIN:VEVENT
UID:a6b909e028db02a71d8d3249028096ce
DTSTAMP:20260424T174419Z
SUMMARY:Halleluyah: The Music and Poetry of Leonard Cohen
DESCRIPTION:Jewish Federation of the Berkshires\nJewish Federation of the B
 erkshires\nhttps://jewishberkshires.org/jewish-federation-of-the-berkshire
 s/halleluyah-music-poetry-leonard-cohen-507277\n\nJoin Laura Wetzler\, sin
 ger\, songwriter\, guitarist\, recording artist and lecturer in a multimed
 ia presentation that explores how Leonard Cohen’s work is fed by his Jew
 ish roots and Buddhist branches.\n\nLaura has devoted years of study and p
 erformance to diverse\, multicultural World music\, as well as to the hist
 ory of American popular entertainment and European Art Music. She takes pa
 rticular joy in sharing the fascinating and beautiful contributions of Jew
 ish-American and African-American a...
DTSTART;TZID=America/New_York:20260618T103000
DTEND;TZID=America/New_York:20260618T120000
END:VEVENT
END:VCALENDAR
