BEGIN:VCALENDAR
PRODID:-//eluceo/ical//2.0/EN
VERSION:2.0
CALSCALE:GREGORIAN
BEGIN:VEVENT
UID:ae5249497deba13533bd810d2cd48385
DTSTAMP:20260424T013500Z
SUMMARY:Halachah\, Sex\, Lies\, and Darwin
DESCRIPTION:Jewish Federation of the Berkshires\nJewish Federation of the B
 erkshires\nhttps://jewishberkshires.org/jewish-federation-of-the-berkshire
 s/halachah-sex-lies-and-darwin-197852\n\nThe Jewish Federation Connecting 
 with Community program welcomes PhD clinical psychologist\, Sigmund Tobias
 \, as he describes the rules about sexual relations established by Halacha
 h.
DTSTART;TZID=America/New_York:20160818T104500
DTEND;TZID=America/New_York:20160818T120000
END:VEVENT
END:VCALENDAR
